BEGIN:VCALENDAR
VERSION:2.0
PRODID:-//ICS Generator//NONSGML ICS Generator//DE
BEGIN:VEVENT
UID:1770372582325-ujjbdo9?@ics-generator.de
DTSTAMP:20260206T102444Z
DTSTART:20260227T201500
DTEND:20260227T235900
SUMMARY:Mottokneipe
DESCRIPTION:Motto: Gangster
LOCATION:Bonner Talweg 60\, 53113 Bonn
END:VEVENT
BEGIN:VEVENT
UID:1770373484192-ll3z51q?@ics-generator.de
DTSTAMP:20260206T102444Z
DTSTART:20260509T201500
DTEND:20260509T235900
SUMMARY:Mottokneipe
DESCRIPTION:Motto: "oops wrong occasion"
LOCATION:Bonner Talweg 60\, 53113 Bonn
END:VEVENT
BEGIN:VEVENT
UID:1770372682175-38dinni?@ics-generator.de
DTSTAMP:20260206T102444Z
DTSTART:20260415T180000
DTEND:20260415T220000
SUMMARY:Anconvent
DESCRIPTION:interne Veranstaltung
LOCATION:Bonner Talweg 60\, 53113 Bonn
END:VEVENT
BEGIN:VEVENT
UID:1770373484192-xvaqace?@ics-generator.de
DTSTAMP:20260206T102444Z
DTSTART:20260520T180000
DTEND:20260520T220000
SUMMARY:Mittelconvent
DESCRIPTION:interne Veranstaltung
LOCATION:Bonner Talweg 60\, 53113 Bonn
END:VEVENT
BEGIN:VEVENT
UID:1770373484192-dmb6pnv?@ics-generator.de
DTSTAMP:20260206T102444Z
DTSTART:20260708T180000
DTEND:20260708T220000
SUMMARY:Abconvent
DESCRIPTION:interne Veranstaltung
LOCATION:Bonner Talweg 60\, 53113 Bonn
END:VEVENT
BEGIN:VEVENT
UID:1770373484192-efkqxgg?@ics-generator.de
DTSTAMP:20260206T102444Z
DTSTART:20260520T190000
DTEND:20260520T220000
SUMMARY:Open-Mic-Night
DESCRIPTION:Einlass ab 18:30 Uhr
LOCATION:Bonner Talweg 60\, 53113 Bonn
END:VEVENT
BEGIN:VEVENT
UID:1770373484192-327v5p7?@ics-generator.de
DTSTAMP:20260206T102444Z
DTSTART:20260613T190000
DTEND:20260613T220000
SUMMARY:WoZiKo unplugged
DESCRIPTION:Einlass ab 18:30 Uhr
LOCATION:Bonner Talweg 60\, 53113 Bonn
END:VEVENT
BEGIN:VEVENT
UID:1770373484192-fgxg2hf?@ics-generator.de
DTSTAMP:20260206T102444Z
DTSTART:20260704T190000
DTEND:20260704T220000
SUMMARY:Live in der Makaria
DESCRIPTION:Einlass ab 18:30 Uhr
LOCATION:Bonner Talweg 60\, 53113 Bonn
END:VEVENT
BEGIN:VEVENT
UID:1770373484193-35k7zb9?@ics-generator.de
DTSTAMP:20260206T102444Z
DTSTART;VALUE=DATE:20260619
DTEND;VALUE=DATE:20260622
SUMMARY:Stiftungsfest
DESCRIPTION:Freitag: 20 Uhr c.t.: Kneipe\nSamstag: Vorstandssitzung AHV\, Konzert\, Festabend\nSonntag: 11 Uhr Mitgliederversammlung AHV\, Frühschoppen
LOCATION:Bonner Talweg 60\, 53113 Bonn
END:VEVENT
BEGIN:VEVENT
UID:1770373484193-ks4yxui?@ics-generator.de
DTSTAMP:20260206T102444Z
DTSTART:20260425T120000
DTEND:20260425T180000
SUMMARY:HaGaTag
DESCRIPTION:Haus- und Gartentag\, im Anschluss Semesterauftakt\ninterne Veranstaltung
LOCATION:Bonner Talweg 60\, 53113 Bonn
BEGIN:VALARM
ACTION:DISPLAY
TRIGGER:-PT30M
DESCRIPTION:Reminder
END:VALARM
END:VEVENT
BEGIN:VEVENT
UID:1770373484193-eivru5c?@ics-generator.de
DTSTAMP:20260206T102444Z
DTSTART:20260410T190000
DTEND:20260410T210000
SUMMARY:Theateraufführung Brotfabrik
DESCRIPTION:"Alice im Anderland"
LOCATION:Kreuzstraße 16\, 53225 Bonn
BEGIN:VALARM
ACTION:DISPLAY
TRIGGER:-PT30M
DESCRIPTION:Reminder
END:VALARM
END:VEVENT
BEGIN:VEVENT
UID:1770373484193-zt23hst?@ics-generator.de
DTSTAMP:20260206T102444Z
DTSTART:20260411T190000
DTEND:20260411T210000
SUMMARY:Theateraufführung Brotfabrik
DESCRIPTION:"Alice im Anderland"
LOCATION:Kreuzstraße 16\, 53225 Bonn
BEGIN:VALARM
ACTION:DISPLAY
TRIGGER:-PT30M
DESCRIPTION:Reminder
END:VALARM
END:VEVENT
BEGIN:VEVENT
UID:1770373484193-z6f5kb8?@ics-generator.de
DTSTAMP:20260206T102444Z
DTSTART:20260417T190000
DTEND:20260417T210000
SUMMARY:Theateraufführung
DESCRIPTION:"Alice im Anderland"
LOCATION:Bonner Talweg 60\, 53113 Bonn
BEGIN:VALARM
ACTION:DISPLAY
TRIGGER:-PT30M
DESCRIPTION:Reminder
END:VALARM
END:VEVENT
BEGIN:VEVENT
UID:1770373484193-u6yguag?@ics-generator.de
DTSTAMP:20260206T102444Z
DTSTART:20260418T190000
DTEND:20260418T210000
SUMMARY:Theateraufführung
DESCRIPTION:"Alice im Anderland"
LOCATION:Bonner Talweg 60\, 53113 Bonn
BEGIN:VALARM
ACTION:DISPLAY
TRIGGER:-PT30M
DESCRIPTION:Reminder
END:VALARM
END:VEVENT
END:VCALENDAR
